BEGIN:VCALENDAR
VERSION:2.0
PRODID:-//Crypto Buzz 360 - ECPv6.13.2.1//NONSGML v1.0//EN
CALSCALE:GREGORIAN
METHOD:PUBLISH
X-WR-CALNAME:Crypto Buzz 360
X-ORIGINAL-URL:https://cryptobuzz360.com
X-WR-CALDESC:Events for Crypto Buzz 360
REFRESH-INTERVAL;VALUE=DURATION:PT1H
X-Robots-Tag:noindex
X-PUBLISHED-TTL:PT1H
BEGIN:VTIMEZONE
TZID:UTC
BEGIN:STANDARD
TZOFFSETFROM:+0000
TZOFFSETTO:+0000
TZNAME:UTC
DTSTART:20230101T000000
END:STANDARD
END:VTIMEZONE
BEGIN:VEVENT
DTSTART;VALUE=DATE:20231130
DTEND;VALUE=DATE:20231201
DTSTAMP:20260425T112112
CREATED:20231117T053140Z
LAST-MODIFIED:20231117T053312Z
UID:1171-1701302400-1701388799@cryptobuzz360.com
SUMMARY:NFT Taipei
DESCRIPTION:NFT Taipei is an annual event organized by the NFT Application & Development Association (NADA) where locally and globally renowned teams and speakers will be invited to share the latest industry trends and NFT application demos.
URL:https://cryptobuzz360.com/event/nft-taipei
ATTACH;FMTTYPE=image/png:https://cryptobuzz360.com/wp-content/uploads/2023/11/taipei.png
END:VEVENT
BEGIN:VEVENT
DTSTART;VALUE=DATE:20231125
DTEND;VALUE=DATE:20231126
DTSTAMP:20260425T112112
CREATED:20231116T113114Z
LAST-MODIFIED:20231117T053801Z
UID:1168-1700870400-1700956799@cryptobuzz360.com
SUMMARY:Paris blockchain summit
DESCRIPTION:Is the oldest international event dedicated to Blockchain technology in France. With each edition\, PBS brings together the international community in an elegant and professional setting. Expect keynotes\, conferences\, business meetings\, exhibitions of technological innovations and practical workshops dedicated to WEB3
URL:https://cryptobuzz360.com/event/paris-blockchain-summit
ATTACH;FMTTYPE=image/png:https://cryptobuzz360.com/wp-content/uploads/2023/11/BLOCKCHAIN_JUNGLE_ff73b960-a43c-4c38-bf3f-10159f4559b2.png
END:VEVENT
BEGIN:VEVENT
DTSTART;VALUE=DATE:20231124
DTEND;VALUE=DATE:20231125
DTSTAMP:20260425T112112
CREATED:20231116T112542Z
LAST-MODIFIED:20231117T054100Z
UID:1165-1700784000-1700870399@cryptobuzz360.com
SUMMARY:Crypto fest 2023
DESCRIPTION:EXPLORE a world beyond today’s society\, a place where Blockchain makes dreams come true.Become a skilled adventurer\, or captain of your own [space]ship!Welcome to CRYPTOPIA\, the blockchain-based society.
URL:https://cryptobuzz360.com/event/crypto-fest-2023
ATTACH;FMTTYPE=image/png:https://cryptobuzz360.com/wp-content/uploads/2023/11/be.png
END:VEVENT
BEGIN:VEVENT
DTSTART;VALUE=DATE:20231123
DTEND;VALUE=DATE:20231124
DTSTAMP:20260425T112112
CREATED:20231116T112306Z
LAST-MODIFIED:20231117T054126Z
UID:1162-1700697600-1700783999@cryptobuzz360.com
SUMMARY:Digital acceleration and transformation expo
DESCRIPTION:Participating in these competitions means more than just a chance to win big. It’s about forging connections\, exposure to curated global investors\, gaining insights\, and making your mark on the global stage. Don’t miss this chance to elevate your startup to new heights.
URL:https://cryptobuzz360.com/event/digital-acceleration-and-transformation-expo
ATTACH;FMTTYPE=image/png:https://cryptobuzz360.com/wp-content/uploads/2023/11/date.png
END:VEVENT
BEGIN:VEVENT
DTSTART;VALUE=DATE:20231123
DTEND;VALUE=DATE:20231124
DTSTAMP:20260425T112112
CREATED:20231116T111835Z
LAST-MODIFIED:20231117T054158Z
UID:1159-1700697600-1700783999@cryptobuzz360.com
SUMMARY:World blockchain summit in india
DESCRIPTION:We are the home of global web 3.0 communities and experts designed to foster growth\, collaboration and adoption of the latest emerging technologies in the space.
URL:https://cryptobuzz360.com/event/world-blockchain-summit-in-india
ATTACH;FMTTYPE=image/png:https://cryptobuzz360.com/wp-content/uploads/2023/11/64366ad9eeb7e32d18161d33_Logo-1-Electric-Violet.png
END:VEVENT
BEGIN:VEVENT
DTSTART;VALUE=DATE:20231120
DTEND;VALUE=DATE:20231123
DTSTAMP:20260425T112112
CREATED:20231116T111418Z
LAST-MODIFIED:20231117T054227Z
UID:1155-1700438400-1700697599@cryptobuzz360.com
SUMMARY:fianance magnets london summit
DESCRIPTION:Finance Magnates Events (FMevents) organise the world’s leading premium events in fintech\, online trading\, digital assets\, and payments. Since 2012\, we gather the most exceptional professionals in these rapidly evolving industries to grow their business\, network\, learn\, and remain ahead of the curve.
URL:https://cryptobuzz360.com/event/fianance-magnets-london-summit
ATTACH;FMTTYPE=image/png:https://cryptobuzz360.com/wp-content/uploads/2023/11/logo2.png
END:VEVENT
BEGIN:VEVENT
DTSTART;VALUE=DATE:20231116
DTEND;VALUE=DATE:20231117
DTSTAMP:20260425T112112
CREATED:20231116T110441Z
LAST-MODIFIED:20231116T111020Z
UID:1151-1700092800-1700179199@cryptobuzz360.com
SUMMARY:Blockchain jungle
DESCRIPTION:Blockchain Jungle 2023 is not just a conference – it’s a movement. We’re uniting global and local stakeholders to position Costa Rica as a pioneer in sustainable blockchain technology.
URL:https://cryptobuzz360.com/event/blockchain-jungle
ATTACH;FMTTYPE=image/jpeg:https://cryptobuzz360.com/wp-content/uploads/2023/11/BLOCKCHAIN_JUNGLE_ff73b960-a43c-4c38-bf3f-10159f4559b2.jpg
END:VEVENT
BEGIN:VEVENT
DTSTART;VALUE=DATE:20231116
DTEND;VALUE=DATE:20231117
DTSTAMP:20260425T112112
CREATED:20231116T104416Z
LAST-MODIFIED:20231116T110727Z
UID:1140-1700092800-1700179199@cryptobuzz360.com
SUMMARY:wiki finance expo-world\,sydney 2023
DESCRIPTION:Wiki Finance Expo Sydney 2023\, will be held on 16 Nov 2023 and there will be 1 day exhibition events targeting both forex\, crypto\, fintech and blockchain businesses; and most importantly\, is the general public.
URL:https://cryptobuzz360.com/event/wiki-finance-expo-worldsydney-2023
ATTACH;FMTTYPE=image/png:https://cryptobuzz360.com/wp-content/uploads/2023/11/wiki.png
END:VEVENT
BEGIN:VEVENT
DTSTART;TZID=UTC:20231101T080000
DTEND;TZID=UTC:20231102T170000
DTSTAMP:20260425T112112
CREATED:20231015T091525Z
LAST-MODIFIED:20231018T110010Z
UID:624-1698825600-1698944400@cryptobuzz360.com
SUMMARY:WORLD BLOCKCHAIN SUMMIT (1-2 NOV 2023)
DESCRIPTION:World Blockchain Summit (WBS)\, a part of Trescon\, one of the world’s fastest-growing organizers of emerging tech B2B events\, demand gen services and more\, is a web 3.0 focused events organizer. The management team has over 20 years of experience organizing successful conferences\, expos\, and summits. WBS works with web 3.0 industry leaders and innovators as advisors to ensure alignment with current market trends and needs.
URL:https://cryptobuzz360.com/event/world-blockchain-summit-1-2-nov-2023
ATTACH;FMTTYPE=image/webp:https://cryptobuzz360.com/wp-content/uploads/2023/10/2000_650c01291ac4c.webp
END:VEVENT
BEGIN:VEVENT
DTSTART;TZID=UTC:20231019T080000
DTEND;TZID=UTC:20231020T170000
DTSTAMP:20260425T112112
CREATED:20231015T091039Z
LAST-MODIFIED:20231016T043001Z
UID:621-1697702400-1697821200@cryptobuzz360.com
SUMMARY:METAMORPHOSIS DUBAI - OCTOBER 19-20
DESCRIPTION:A sprawling metropolis built in the desert\, Dubai is a testament to humanity’s ability to overcome any adversity. As the crypto capital of the East\, and possibly the world\, Dubai hosts some of the biggest names in blockchain and is the premier destination for people looking to make connections in the Web3 space.
URL:https://cryptobuzz360.com/event/metamorphosis-dubai-october-19-20
ATTACH;FMTTYPE=image/png:https://cryptobuzz360.com/wp-content/uploads/2023/10/dubai.png
END:VEVENT
BEGIN:VEVENT
DTSTART;TZID=UTC:20231015T080000
DTEND;TZID=UTC:20231018T170000
DTSTAMP:20260425T112112
CREATED:20231015T090835Z
LAST-MODIFIED:20231018T105929Z
UID:618-1697356800-1697648400@cryptobuzz360.com
SUMMARY:FUTURE BLOCKCHAIN SUMMIT- OCTOBER 15-18
DESCRIPTION:Future Blockchain Summit\, the MENA region’s most immersive large-scale blockchain event\, is moving Dubai Harbour from 17-20 October 2023 and is revamping with a new concept designed to embolden the disruptors\, empower the change-makers\, and inspire the innovators of the Web 3.0\, Blockchain\, Crypto\, NFT\, Metaverse\, and Gaming community.
URL:https://cryptobuzz360.com/event/future-blockchain-summit-october-15-18
ATTACH;FMTTYPE=image/png:https://cryptobuzz360.com/wp-content/uploads/2023/10/future.png
END:VEVENT
BEGIN:VEVENT
DTSTART;TZID=UTC:20231012T080000
DTEND;TZID=UTC:20231013T170000
DTSTAMP:20260425T112112
CREATED:20231016T084541Z
LAST-MODIFIED:20231018T105700Z
UID:657-1697097600-1697216400@cryptobuzz360.com
SUMMARY:VIETNAM BLOCKCHAIN SUMMIT- OCTOBER 12-13
DESCRIPTION:Vietnam Blockchain Summit is a 2-day conference\, brought to you by Vietnam Software & IT Services Association and Vietnam Blockchain Association. It’s the largest and the most high-profile annual blockchain event in Vietnam and the surrounding regions\, bringing together thousands of attendees from around the globe including startups\, investors\, developers\, enterprise leaders\, financial institutions\, researchers\, academics\, influencers\, blockchain pioneers and more to discuss and showcase the latest innovations\, technologies\, and best practices\, establish new collaborations and foster investment.
URL:https://cryptobuzz360.com/event/vietnam-blockchain-summit-october-12-13
ATTACH;FMTTYPE=image/png:https://cryptobuzz360.com/wp-content/uploads/2023/10/vietnam.png
END:VEVENT
BEGIN:VEVENT
DTSTART;TZID=UTC:20231007T080000
DTEND;TZID=UTC:20231008T170000
DTSTAMP:20260425T112112
CREATED:20231016T083821Z
LAST-MODIFIED:20231018T105637Z
UID:653-1696665600-1696784400@cryptobuzz360.com
SUMMARY:ABC CONCLAVE DUBAI. 7- 8 OCT 2023
DESCRIPTION:Catalyzing a global convergence of web3 enthusiasts\, blockchain experts\, c-suits and digital asset visionaries from every corner of the world for an immersive journey through insightful web3 conferences\, competitive esports and gaming\, vibrant cosplay\, music festival\, transformative networking opportunities\, and blockchain driven hackathons in the heart of Dubai.
URL:https://cryptobuzz360.com/event/abc-conclave-dubai-7-8-oct-2023
ATTACH;FMTTYPE=image/png:https://cryptobuzz360.com/wp-content/uploads/2023/10/abc.png
END:VEVENT
END:VCALENDAR